BEGIN:VCALENDAR
VERSION:2.0
PRODID:-//ChamberMaster//Event Calendar 2.0//EN
METHOD:PUBLISH
X-PUBLISHED-TTL:P3D
REFRESH-INTERVAL:P3D
CALSCALE:GREGORIAN
BEGIN:VEVENT
DTSTART:20220718T180000Z
DTEND:20220722T210000Z
X-MICROSOFT-CDO-ALLDAYEVENT:FALSE
SUMMARY:Bricks 4 Kidz Camp
DESCRIPTION:Game On\n\n    It's fun and educational!
X-ALT-DESC;FMTTYPE=text/html:<span style="font-size:24px\;">Game On</span><br />\n<span style="font-size:20px\;">&nbsp\; &nbsp\; It&#39\;s fun and educational!</span>
LOCATION:Waxahachie-Freedom Fellowship 507 US-77 #1300 Waxahachie\, Tx 75165
UID:e.420.4816
SEQUENCE:3
DTSTAMP:20260425T220408Z
URL:http://redoakchamber.chambermaster.com/events/details/bricks-4-kidz-camp-4816
END:VEVENT

END:VCALENDAR
